BEGIN:VCALENDAR
VERSION:2.0
PRODID:-//St John Lutheran School - Elk River - ECPv6.15.20//NONSGML v1.0//EN
CALSCALE:GREGORIAN
METHOD:PUBLISH
X-WR-CALNAME:St John Lutheran School - Elk River
X-ORIGINAL-URL:https://stjohnschoolermn.com
X-WR-CALDESC:Events for St John Lutheran School - Elk River
REFRESH-INTERVAL;VALUE=DURATION:PT1H
X-Robots-Tag:noindex
X-PUBLISHED-TTL:PT1H
BEGIN:VTIMEZONE
TZID:America/Chicago
BEGIN:DAYLIGHT
TZOFFSETFROM:-0600
TZOFFSETTO:-0500
TZNAME:CDT
DTSTART:20240310T080000
END:DAYLIGHT
BEGIN:STANDARD
TZOFFSETFROM:-0500
TZOFFSETTO:-0600
TZNAME:CST
DTSTART:20241103T070000
END:STANDARD
BEGIN:DAYLIGHT
TZOFFSETFROM:-0600
TZOFFSETTO:-0500
TZNAME:CDT
DTSTART:20250309T080000
END:DAYLIGHT
BEGIN:STANDARD
TZOFFSETFROM:-0500
TZOFFSETTO:-0600
TZNAME:CST
DTSTART:20251102T070000
END:STANDARD
BEGIN:DAYLIGHT
TZOFFSETFROM:-0600
TZOFFSETTO:-0500
TZNAME:CDT
DTSTART:20260308T080000
END:DAYLIGHT
BEGIN:STANDARD
TZOFFSETFROM:-0500
TZOFFSETTO:-0600
TZNAME:CST
DTSTART:20261101T070000
END:STANDARD
END:VTIMEZONE
BEGIN:VEVENT
DTSTART;TZID=America/Chicago:20250401T151500
DTEND;TZID=America/Chicago:20250401T160000
DTSTAMP:20260420T220429
CREATED:20250227T181828Z
LAST-MODIFIED:20250402T205639Z
UID:3421-1743520500-1743523200@stjohnschoolermn.com
SUMMARY:Volleyball - 4/1/25 - 5th and 6th Grade
DESCRIPTION:Practice Information: \n\n\n\n\nKnee pads are optional but a good idea\n\n\n\nTie shoes are required\n\n\n\nHair tied back\n\n\n\nWater bottle\n\n\n\nShorts or leggings
URL:https://stjohnschoolermn.com/event/volleyball-3-14-25-5th-and-6th-grade/
LOCATION:Minnesota
CATEGORIES:Sports
ATTACH;FMTTYPE=image/jpeg:https://stjohnschoolermn.com/wp-content/uploads/2025/02/Volleyball.jpg
ORGANIZER;CN="Jen Voigt":MAILTO:jennifer.voigt@sjlcas.com
END:VEVENT
BEGIN:VEVENT
DTSTART;TZID=America/Chicago:20250401T151500
DTEND;TZID=America/Chicago:20250401T164500
DTSTAMP:20260420T220429
CREATED:20250227T181931Z
LAST-MODIFIED:20250402T205452Z
UID:3423-1743520500-1743525900@stjohnschoolermn.com
SUMMARY:Volleyball - 4/1/25 - 7th and 8th Grade
DESCRIPTION:Practice Information: \n\n\n\n\nKnee pads are optional but a good idea\n\n\n\nTie shoes are required\n\n\n\nHair tied back\n\n\n\nWater bottle\n\n\n\nShorts or leggings
URL:https://stjohnschoolermn.com/event/volleyball-3-14-25-7th-and-8th-grade/
LOCATION:Minnesota
CATEGORIES:Sports
ATTACH;FMTTYPE=image/jpeg:https://stjohnschoolermn.com/wp-content/uploads/2025/02/Volleyball.jpg
ORGANIZER;CN="Jen Voigt":MAILTO:jennifer.voigt@sjlcas.com
END:VEVENT
END:VCALENDAR