BEGIN:VCALENDAR
VERSION:2.0
PRODID:-//St John Lutheran School - Elk River - ECPv6.15.20//NONSGML v1.0//EN
CALSCALE:GREGORIAN
METHOD:PUBLISH
X-WR-CALNAME:St John Lutheran School - Elk River
X-ORIGINAL-URL:https://stjohnschoolermn.com
X-WR-CALDESC:Events for St John Lutheran School - Elk River
REFRESH-INTERVAL;VALUE=DURATION:PT1H
X-Robots-Tag:noindex
X-PUBLISHED-TTL:PT1H
BEGIN:VTIMEZONE
TZID:America/Chicago
BEGIN:DAYLIGHT
TZOFFSETFROM:-0600
TZOFFSETTO:-0500
TZNAME:CDT
DTSTART:20240310T080000
END:DAYLIGHT
BEGIN:STANDARD
TZOFFSETFROM:-0500
TZOFFSETTO:-0600
TZNAME:CST
DTSTART:20241103T070000
END:STANDARD
BEGIN:DAYLIGHT
TZOFFSETFROM:-0600
TZOFFSETTO:-0500
TZNAME:CDT
DTSTART:20250309T080000
END:DAYLIGHT
BEGIN:STANDARD
TZOFFSETFROM:-0500
TZOFFSETTO:-0600
TZNAME:CST
DTSTART:20251102T070000
END:STANDARD
BEGIN:DAYLIGHT
TZOFFSETFROM:-0600
TZOFFSETTO:-0500
TZNAME:CDT
DTSTART:20260308T080000
END:DAYLIGHT
BEGIN:STANDARD
TZOFFSETFROM:-0500
TZOFFSETTO:-0600
TZNAME:CST
DTSTART:20261101T070000
END:STANDARD
END:VTIMEZONE
BEGIN:VEVENT
DTSTART;TZID=America/Chicago:20250403T080000
DTEND;TZID=America/Chicago:20250403T170000
DTSTAMP:20260420T221045
CREATED:20250402T210218Z
LAST-MODIFIED:20250402T211641Z
UID:3439-1743667200-1743699600@stjohnschoolermn.com
SUMMARY:Volleyball - 4/3/25 - Jamboree's 5th and 6th Grade
DESCRIPTION:Time TBT
URL:https://stjohnschoolermn.com/event/volleyball-4-3-25-jamborees-5th-and-6th-grade/
LOCATION:St. John Corcoran\, 9141 County Rd 101\, Corcoran\, Minnesota\, 55340\, United States
CATEGORIES:Sports
ATTACH;FMTTYPE=image/jpeg:https://stjohnschoolermn.com/wp-content/uploads/2025/02/Volleyball.jpg
ORGANIZER;CN="Jen Voigt":MAILTO:jennifer.voigt@sjlcas.com
END:VEVENT
END:VCALENDAR