BEGIN:VCALENDAR
VERSION:2.0
PRODID:-//St John Lutheran School - Elk River - ECPv6.15.20//NONSGML v1.0//EN
CALSCALE:GREGORIAN
METHOD:PUBLISH
X-WR-CALNAME:St John Lutheran School - Elk River
X-ORIGINAL-URL:https://stjohnschoolermn.com
X-WR-CALDESC:Events for St John Lutheran School - Elk River
REFRESH-INTERVAL;VALUE=DURATION:PT1H
X-Robots-Tag:noindex
X-PUBLISHED-TTL:PT1H
BEGIN:VTIMEZONE
TZID:America/Chicago
BEGIN:DAYLIGHT
TZOFFSETFROM:-0600
TZOFFSETTO:-0500
TZNAME:CDT
DTSTART:20230312T080000
END:DAYLIGHT
BEGIN:STANDARD
TZOFFSETFROM:-0500
TZOFFSETTO:-0600
TZNAME:CST
DTSTART:20231105T070000
END:STANDARD
BEGIN:DAYLIGHT
TZOFFSETFROM:-0600
TZOFFSETTO:-0500
TZNAME:CDT
DTSTART:20240310T080000
END:DAYLIGHT
BEGIN:STANDARD
TZOFFSETFROM:-0500
TZOFFSETTO:-0600
TZNAME:CST
DTSTART:20241103T070000
END:STANDARD
BEGIN:DAYLIGHT
TZOFFSETFROM:-0600
TZOFFSETTO:-0500
TZNAME:CDT
DTSTART:20250309T080000
END:DAYLIGHT
BEGIN:STANDARD
TZOFFSETFROM:-0500
TZOFFSETTO:-0600
TZNAME:CST
DTSTART:20251102T070000
END:STANDARD
BEGIN:DAYLIGHT
TZOFFSETFROM:-0600
TZOFFSETTO:-0500
TZNAME:CDT
DTSTART:20260308T080000
END:DAYLIGHT
BEGIN:STANDARD
TZOFFSETFROM:-0500
TZOFFSETTO:-0600
TZNAME:CST
DTSTART:20261101T070000
END:STANDARD
END:VTIMEZONE
BEGIN:VEVENT
DTSTART;TZID=America/Chicago:20250219T084000
DTEND;TZID=America/Chicago:20250219T091000
DTSTAMP:20260420T095615
CREATED:20240806T173409Z
LAST-MODIFIED:20240806T173409Z
UID:2681-1739954400-1739956200@stjohnschoolermn.com
SUMMARY:Chapel
DESCRIPTION:Parents/Families Welcome!
URL:https://stjohnschoolermn.com/event/chapel-23/
CATEGORIES:Chapel
END:VEVENT
BEGIN:VEVENT
DTSTART;TZID=America/Chicago:20250212T084000
DTEND;TZID=America/Chicago:20250212T091000
DTSTAMP:20260420T095615
CREATED:20240806T173409Z
LAST-MODIFIED:20240806T173409Z
UID:2680-1739349600-1739351400@stjohnschoolermn.com
SUMMARY:Chapel
DESCRIPTION:Parents/Families Welcome!
URL:https://stjohnschoolermn.com/event/chapel-22/
CATEGORIES:Chapel
END:VEVENT
BEGIN:VEVENT
DTSTART;TZID=America/Chicago:20250205T084000
DTEND;TZID=America/Chicago:20250205T091000
DTSTAMP:20260420T095615
CREATED:20240806T173408Z
LAST-MODIFIED:20240806T173408Z
UID:2679-1738744800-1738746600@stjohnschoolermn.com
SUMMARY:Chapel
DESCRIPTION:Parents/Families Welcome!
URL:https://stjohnschoolermn.com/event/chapel-21/
CATEGORIES:Chapel
END:VEVENT
BEGIN:VEVENT
DTSTART;TZID=America/Chicago:20250129T084000
DTEND;TZID=America/Chicago:20250129T091000
DTSTAMP:20260420T095615
CREATED:20240806T173326Z
LAST-MODIFIED:20240806T173326Z
UID:2678-1738140000-1738141800@stjohnschoolermn.com
SUMMARY:Chapel
DESCRIPTION:Parents/Families Welcome!
URL:https://stjohnschoolermn.com/event/chapel-20/
CATEGORIES:Chapel
END:VEVENT
BEGIN:VEVENT
DTSTART;TZID=America/Chicago:20250122T084000
DTEND;TZID=America/Chicago:20250122T091000
DTSTAMP:20260420T095615
CREATED:20240806T173326Z
LAST-MODIFIED:20240806T173326Z
UID:2677-1737535200-1737537000@stjohnschoolermn.com
SUMMARY:Chapel
DESCRIPTION:Parents/Families Welcome!
URL:https://stjohnschoolermn.com/event/chapel-19/
CATEGORIES:Chapel
END:VEVENT
BEGIN:VEVENT
DTSTART;TZID=America/Chicago:20250115T084000
DTEND;TZID=America/Chicago:20250115T091000
DTSTAMP:20260420T095615
CREATED:20240806T173325Z
LAST-MODIFIED:20240806T173325Z
UID:2676-1736930400-1736932200@stjohnschoolermn.com
SUMMARY:Chapel
DESCRIPTION:Parents/Families Welcome!
URL:https://stjohnschoolermn.com/event/chapel-18/
CATEGORIES:Chapel
END:VEVENT
BEGIN:VEVENT
DTSTART;TZID=America/Chicago:20250108T084000
DTEND;TZID=America/Chicago:20250108T091000
DTSTAMP:20260420T095615
CREATED:20240806T173325Z
LAST-MODIFIED:20240806T173325Z
UID:2675-1736325600-1736327400@stjohnschoolermn.com
SUMMARY:Chapel
DESCRIPTION:Parents/Families Welcome!
URL:https://stjohnschoolermn.com/event/chapel-17/
CATEGORIES:Chapel
END:VEVENT
BEGIN:VEVENT
DTSTART;TZID=America/Chicago:20241218T084000
DTEND;TZID=America/Chicago:20241218T091000
DTSTAMP:20260420T095615
CREATED:20240806T173325Z
LAST-MODIFIED:20240806T173325Z
UID:2674-1734511200-1734513000@stjohnschoolermn.com
SUMMARY:Chapel
DESCRIPTION:Parents/Families Welcome!
URL:https://stjohnschoolermn.com/event/chapel-16/
CATEGORIES:Chapel
END:VEVENT
BEGIN:VEVENT
DTSTART;TZID=America/Chicago:20241211T084000
DTEND;TZID=America/Chicago:20241211T091000
DTSTAMP:20260420T095615
CREATED:20240806T173310Z
LAST-MODIFIED:20240806T173310Z
UID:2673-1733906400-1733908200@stjohnschoolermn.com
SUMMARY:Chapel
DESCRIPTION:Parents/Families Welcome!
URL:https://stjohnschoolermn.com/event/chapel-15/
CATEGORIES:Chapel
END:VEVENT
BEGIN:VEVENT
DTSTART;TZID=America/Chicago:20241204T084000
DTEND;TZID=America/Chicago:20241204T091000
DTSTAMP:20260420T095615
CREATED:20240806T173310Z
LAST-MODIFIED:20240806T173310Z
UID:2672-1733301600-1733303400@stjohnschoolermn.com
SUMMARY:Chapel
DESCRIPTION:Parents/Families Welcome!
URL:https://stjohnschoolermn.com/event/chapel-14/
CATEGORIES:Chapel
END:VEVENT
BEGIN:VEVENT
DTSTART;TZID=America/Chicago:20241120T084000
DTEND;TZID=America/Chicago:20241120T091000
DTSTAMP:20260420T095615
CREATED:20240806T173310Z
LAST-MODIFIED:20240806T173310Z
UID:2671-1732092000-1732093800@stjohnschoolermn.com
SUMMARY:Chapel
DESCRIPTION:Parents/Families Welcome!
URL:https://stjohnschoolermn.com/event/chapel-13/
CATEGORIES:Chapel
END:VEVENT
BEGIN:VEVENT
DTSTART;TZID=America/Chicago:20241113T084000
DTEND;TZID=America/Chicago:20241113T091000
DTSTAMP:20260420T095615
CREATED:20240806T173309Z
LAST-MODIFIED:20240806T173309Z
UID:2670-1731487200-1731489000@stjohnschoolermn.com
SUMMARY:Chapel
DESCRIPTION:Parents/Families Welcome!
URL:https://stjohnschoolermn.com/event/chapel-12/
CATEGORIES:Chapel
END:VEVENT
BEGIN:VEVENT
DTSTART;TZID=America/Chicago:20241106T084000
DTEND;TZID=America/Chicago:20241106T091000
DTSTAMP:20260420T095615
CREATED:20240806T173309Z
LAST-MODIFIED:20240806T173309Z
UID:2669-1730882400-1730884200@stjohnschoolermn.com
SUMMARY:Chapel
DESCRIPTION:Parents/Families Welcome!
URL:https://stjohnschoolermn.com/event/chapel-11/
CATEGORIES:Chapel
END:VEVENT
BEGIN:VEVENT
DTSTART;TZID=America/Chicago:20241030T084000
DTEND;TZID=America/Chicago:20241030T091000
DTSTAMP:20260420T095615
CREATED:20240806T173309Z
LAST-MODIFIED:20240806T173309Z
UID:2668-1730277600-1730279400@stjohnschoolermn.com
SUMMARY:Chapel
DESCRIPTION:Parents/Families Welcome!
URL:https://stjohnschoolermn.com/event/chapel-10/
CATEGORIES:Chapel
END:VEVENT
BEGIN:VEVENT
DTSTART;TZID=America/Chicago:20241023T084000
DTEND;TZID=America/Chicago:20241023T091000
DTSTAMP:20260420T095615
CREATED:20240806T173308Z
LAST-MODIFIED:20240806T173308Z
UID:2667-1729672800-1729674600@stjohnschoolermn.com
SUMMARY:Chapel
DESCRIPTION:Parents/Families Welcome!
URL:https://stjohnschoolermn.com/event/chapel-9/
CATEGORIES:Chapel
END:VEVENT
BEGIN:VEVENT
DTSTART;TZID=America/Chicago:20241016T084000
DTEND;TZID=America/Chicago:20241016T091000
DTSTAMP:20260420T095615
CREATED:20240806T173308Z
LAST-MODIFIED:20240806T173308Z
UID:2666-1729068000-1729069800@stjohnschoolermn.com
SUMMARY:Chapel
DESCRIPTION:Parents/Families Welcome!
URL:https://stjohnschoolermn.com/event/chapel-8/
CATEGORIES:Chapel
END:VEVENT
BEGIN:VEVENT
DTSTART;TZID=America/Chicago:20241009T084000
DTEND;TZID=America/Chicago:20241009T091000
DTSTAMP:20260420T095615
CREATED:20240806T173308Z
LAST-MODIFIED:20240806T173308Z
UID:2665-1728463200-1728465000@stjohnschoolermn.com
SUMMARY:Chapel
DESCRIPTION:Parents/Families Welcome!
URL:https://stjohnschoolermn.com/event/chapel-7/
CATEGORIES:Chapel
END:VEVENT
BEGIN:VEVENT
DTSTART;TZID=America/Chicago:20241002T084000
DTEND;TZID=America/Chicago:20241002T091000
DTSTAMP:20260420T095615
CREATED:20240806T173308Z
LAST-MODIFIED:20240806T173308Z
UID:2664-1727858400-1727860200@stjohnschoolermn.com
SUMMARY:Chapel
DESCRIPTION:Parents/Families Welcome!
URL:https://stjohnschoolermn.com/event/chapel-6/
CATEGORIES:Chapel
END:VEVENT
BEGIN:VEVENT
DTSTART;TZID=America/Chicago:20240925T084000
DTEND;TZID=America/Chicago:20240925T091000
DTSTAMP:20260420T095615
CREATED:20240806T173307Z
LAST-MODIFIED:20240806T173307Z
UID:2663-1727253600-1727255400@stjohnschoolermn.com
SUMMARY:Chapel
DESCRIPTION:Parents/Families Welcome!
URL:https://stjohnschoolermn.com/event/chapel-5/
CATEGORIES:Chapel
END:VEVENT
BEGIN:VEVENT
DTSTART;TZID=America/Chicago:20240918T084000
DTEND;TZID=America/Chicago:20240918T091000
DTSTAMP:20260420T095615
CREATED:20240806T173307Z
LAST-MODIFIED:20240806T173307Z
UID:2662-1726648800-1726650600@stjohnschoolermn.com
SUMMARY:Chapel
DESCRIPTION:Parents/Families Welcome!
URL:https://stjohnschoolermn.com/event/chapel-4/
CATEGORIES:Chapel
END:VEVENT
BEGIN:VEVENT
DTSTART;TZID=America/Chicago:20240911T084000
DTEND;TZID=America/Chicago:20240911T091000
DTSTAMP:20260420T095615
CREATED:20240806T173307Z
LAST-MODIFIED:20240806T173307Z
UID:2661-1726044000-1726045800@stjohnschoolermn.com
SUMMARY:Chapel
DESCRIPTION:Parents/Families Welcome!
URL:https://stjohnschoolermn.com/event/chapel-3/
CATEGORIES:Chapel
END:VEVENT
BEGIN:VEVENT
DTSTART;TZID=America/Chicago:20240904T084000
DTEND;TZID=America/Chicago:20240904T091000
DTSTAMP:20260420T095615
CREATED:20240806T173306Z
LAST-MODIFIED:20240806T173306Z
UID:2660-1725439200-1725441000@stjohnschoolermn.com
SUMMARY:Chapel
DESCRIPTION:Parents/Families Welcome!
URL:https://stjohnschoolermn.com/event/chapel-2/
CATEGORIES:Chapel
END:VEVENT
BEGIN:VEVENT
DTSTART;TZID=America/Chicago:20240828T084000
DTEND;TZID=America/Chicago:20240828T091000
DTSTAMP:20260420T095615
CREATED:20240806T173306Z
LAST-MODIFIED:20240806T173306Z
UID:2659-1724834400-1724836200@stjohnschoolermn.com
SUMMARY:Chapel
DESCRIPTION:Parents/Families Welcome!
URL:https://stjohnschoolermn.com/event/chapel/
CATEGORIES:Chapel
END:VEVENT
END:VCALENDAR