BEGIN:VCALENDAR
VERSION:2.0
PRODID:-//St John Lutheran School - Elk River - ECPv6.15.20//NONSGML v1.0//EN
CALSCALE:GREGORIAN
METHOD:PUBLISH
X-ORIGINAL-URL:https://stjohnschoolermn.com
X-WR-CALDESC:Events for St John Lutheran School - Elk River
REFRESH-INTERVAL;VALUE=DURATION:PT1H
X-Robots-Tag:noindex
X-PUBLISHED-TTL:PT1H
BEGIN:VTIMEZONE
TZID:America/Chicago
BEGIN:DAYLIGHT
TZOFFSETFROM:-0600
TZOFFSETTO:-0500
TZNAME:CDT
DTSTART:20230312T080000
END:DAYLIGHT
BEGIN:STANDARD
TZOFFSETFROM:-0500
TZOFFSETTO:-0600
TZNAME:CST
DTSTART:20231105T070000
END:STANDARD
BEGIN:DAYLIGHT
TZOFFSETFROM:-0600
TZOFFSETTO:-0500
TZNAME:CDT
DTSTART:20240310T080000
END:DAYLIGHT
BEGIN:STANDARD
TZOFFSETFROM:-0500
TZOFFSETTO:-0600
TZNAME:CST
DTSTART:20241103T070000
END:STANDARD
BEGIN:DAYLIGHT
TZOFFSETFROM:-0600
TZOFFSETTO:-0500
TZNAME:CDT
DTSTART:20250309T080000
END:DAYLIGHT
BEGIN:STANDARD
TZOFFSETFROM:-0500
TZOFFSETTO:-0600
TZNAME:CST
DTSTART:20251102T070000
END:STANDARD
BEGIN:DAYLIGHT
TZOFFSETFROM:-0600
TZOFFSETTO:-0500
TZNAME:CDT
DTSTART:20260308T080000
END:DAYLIGHT
BEGIN:STANDARD
TZOFFSETFROM:-0500
TZOFFSETTO:-0600
TZNAME:CST
DTSTART:20261101T070000
END:STANDARD
END:VTIMEZONE
BEGIN:VEVENT
DTSTART;TZID=America/Chicago:20250530T113000
DTEND;TZID=America/Chicago:20250530T120000
DTSTAMP:20260420T080411
CREATED:20240806T160002Z
LAST-MODIFIED:20240806T172922Z
UID:2612-1748604600-1748606400@stjohnschoolermn.com
SUMMARY:Early Release - Parent Transport
DESCRIPTION:
URL:https://stjohnschoolermn.com/event/early-release-parent-transport/
CATEGORIES:Parent Transport
END:VEVENT
BEGIN:VEVENT
DTSTART;VALUE=DATE:20250404
DTEND;VALUE=DATE:20250405
DTSTAMP:20260420T080411
CREATED:20240806T155947Z
LAST-MODIFIED:20240806T164046Z
UID:2607-1743724800-1743811199@stjohnschoolermn.com
SUMMARY:Parent Transport
DESCRIPTION:
URL:https://stjohnschoolermn.com/event/parent-transport-6/
CATEGORIES:Parent Transport
END:VEVENT
BEGIN:VEVENT
DTSTART;VALUE=DATE:20250121
DTEND;VALUE=DATE:20250122
DTSTAMP:20260420T080411
CREATED:20240806T155934Z
LAST-MODIFIED:20240806T163450Z
UID:2603-1737417600-1737503999@stjohnschoolermn.com
SUMMARY:Parent Transport
DESCRIPTION:
URL:https://stjohnschoolermn.com/event/parent-transport-5/
CATEGORIES:Parent Transport
END:VEVENT
BEGIN:VEVENT
DTSTART;VALUE=DATE:20241206
DTEND;VALUE=DATE:20241207
DTSTAMP:20260420T080411
CREATED:20240806T155931Z
LAST-MODIFIED:20240806T163304Z
UID:2600-1733443200-1733529599@stjohnschoolermn.com
SUMMARY:Parent Transport
DESCRIPTION:
URL:https://stjohnschoolermn.com/event/parent-transport-4/
CATEGORIES:Parent Transport
END:VEVENT
BEGIN:VEVENT
DTSTART;VALUE=DATE:20241104
DTEND;VALUE=DATE:20241106
DTSTAMP:20260420T080411
CREATED:20240806T155931Z
LAST-MODIFIED:20240806T161334Z
UID:2597-1730678400-1730851199@stjohnschoolermn.com
SUMMARY:Parent Transport
DESCRIPTION:
URL:https://stjohnschoolermn.com/event/parent-transport-3/
CATEGORIES:Parent Transport
END:VEVENT
BEGIN:VEVENT
DTSTART;VALUE=DATE:20241016
DTEND;VALUE=DATE:20241017
DTSTAMP:20260420T080411
CREATED:20240806T155930Z
LAST-MODIFIED:20240806T161234Z
UID:2595-1729036800-1729123199@stjohnschoolermn.com
SUMMARY:Parent Transport
DESCRIPTION:
URL:https://stjohnschoolermn.com/event/parent-transport-2/
CATEGORIES:Parent Transport
END:VEVENT
BEGIN:VEVENT
DTSTART;VALUE=DATE:20240826
DTEND;VALUE=DATE:20240830
DTSTAMP:20260420T080411
CREATED:20240806T155929Z
LAST-MODIFIED:20240808T170501Z
UID:2592-1724630400-1724975999@stjohnschoolermn.com
SUMMARY:Parent Transport
DESCRIPTION:
URL:https://stjohnschoolermn.com/event/parent-transport/
CATEGORIES:Parent Transport
END:VEVENT
END:VCALENDAR