BEGIN:VCALENDAR
VERSION:2.0
PRODID:-//St John Lutheran School - Elk River - ECPv6.15.20//NONSGML v1.0//EN
CALSCALE:GREGORIAN
METHOD:PUBLISH
X-ORIGINAL-URL:https://stjohnschoolermn.com
X-WR-CALDESC:Events for St John Lutheran School - Elk River
REFRESH-INTERVAL;VALUE=DURATION:PT1H
X-Robots-Tag:noindex
X-PUBLISHED-TTL:PT1H
BEGIN:VTIMEZONE
TZID:America/Chicago
BEGIN:DAYLIGHT
TZOFFSETFROM:-0600
TZOFFSETTO:-0500
TZNAME:CDT
DTSTART:20250309T080000
END:DAYLIGHT
BEGIN:STANDARD
TZOFFSETFROM:-0500
TZOFFSETTO:-0600
TZNAME:CST
DTSTART:20251102T070000
END:STANDARD
BEGIN:DAYLIGHT
TZOFFSETFROM:-0600
TZOFFSETTO:-0500
TZNAME:CDT
DTSTART:20260308T080000
END:DAYLIGHT
BEGIN:STANDARD
TZOFFSETFROM:-0500
TZOFFSETTO:-0600
TZNAME:CST
DTSTART:20261101T070000
END:STANDARD
BEGIN:DAYLIGHT
TZOFFSETFROM:-0600
TZOFFSETTO:-0500
TZNAME:CDT
DTSTART:20270314T080000
END:DAYLIGHT
BEGIN:STANDARD
TZOFFSETFROM:-0500
TZOFFSETTO:-0600
TZNAME:CST
DTSTART:20271107T070000
END:STANDARD
END:VTIMEZONE
BEGIN:VEVENT
DTSTART;TZID=America/Chicago:20260322T170000
DTEND;TZID=America/Chicago:20260322T200000
DTSTAMP:20260420T022842
CREATED:20260108T205206Z
LAST-MODIFIED:20260113T194642Z
UID:3558-1774198800-1774209600@stjohnschoolermn.com
SUMMARY:St. John Lutheran Gala
DESCRIPTION:This elegant evening will bring together families\, friends\, and community partners who share a common passion: nurturing hearts and minds through Christ-centered education. Guests will enjoy a lively social hour\, dinner\, dessert auction\, silent auction\, and live auction — all in celebration of faith\, fellowship\, and the bright future of our students. \n\n\n\nAnd we promise there will be laughter and maybe even some friendly bidding wars! \n\n\n\nAt St. John Lutheran School\, our mission is simple yet powerful: \n\n\n\n“Making Disciples by Linking Lives to Jesus Christ.” \n\n\n\nYour contribution and ticket purchase not only blesses our event\, but helps us to provide exceptional Christian education\, enhance our facilities\, and expand programs that equip students to live lives of faith\, service\, and purpose.  In addition\, with generous support from community partners like you\, we can continue to expand opportunities to positively impact our broader community.
URL:https://stjohnschoolermn.com/event/st-john-lutheran-gala/
LOCATION:Rockwoods Event Center\, 9100 Quaday Ave NE\, Otsego\, Minnesota\, 55330
CATEGORIES:General
END:VEVENT
BEGIN:VEVENT
DTSTART;TZID=America/Chicago:20260416T100000
DTEND;TZID=America/Chicago:20260416T100000
DTSTAMP:20260420T022842
CREATED:20250807T140128Z
LAST-MODIFIED:20250807T140414Z
UID:3519-1776333600-1776333600@stjohnschoolermn.com
SUMMARY:Gr. 4-8 Musical Matinee*
DESCRIPTION:
URL:https://stjohnschoolermn.com/event/gr-4-8-musical-matinee/
LOCATION:Minnesota
CATEGORIES:Expected Attendance
END:VEVENT
BEGIN:VEVENT
DTSTART;TZID=America/Chicago:20260417T190000
DTEND;TZID=America/Chicago:20260417T190000
DTSTAMP:20260420T022842
CREATED:20250807T140128Z
LAST-MODIFIED:20250807T140406Z
UID:3520-1776452400-1776452400@stjohnschoolermn.com
SUMMARY:Gr. 4-8 Musical Performance
DESCRIPTION:
URL:https://stjohnschoolermn.com/event/gr-4-8-musical-performance/
LOCATION:Minnesota
CATEGORIES:Expected Attendance
END:VEVENT
BEGIN:VEVENT
DTSTART;TZID=America/Chicago:20260420T000000
DTEND;TZID=America/Chicago:20260420T235959
DTSTAMP:20260420T022842
CREATED:20250807T140128Z
LAST-MODIFIED:20250807T140357Z
UID:3521-1776643200-1776729599@stjohnschoolermn.com
SUMMARY:K-8 Conferences* - No School
DESCRIPTION:
URL:https://stjohnschoolermn.com/event/k-8-conferences-no-school-4/
LOCATION:Minnesota
CATEGORIES:Expected Attendance,No School
END:VEVENT
BEGIN:VEVENT
DTSTART;TZID=America/Chicago:20260421T000000
DTEND;TZID=America/Chicago:20260421T000000
DTSTAMP:20260420T022842
CREATED:20250807T140128Z
LAST-MODIFIED:20250807T140343Z
UID:3522-1776729600-1776729600@stjohnschoolermn.com
SUMMARY:K-8 Conferences* - After school
DESCRIPTION:
URL:https://stjohnschoolermn.com/event/k-8-conferences-after-school-2/
LOCATION:Minnesota
CATEGORIES:Expected Attendance,Expected Attendence
END:VEVENT
BEGIN:VEVENT
DTSTART;TZID=America/Chicago:20260501T000000
DTEND;TZID=America/Chicago:20260501T235959
DTSTAMP:20260420T022842
CREATED:20250807T140143Z
LAST-MODIFIED:20250807T140143Z
UID:3523-1777593600-1777679999@stjohnschoolermn.com
SUMMARY:Grades 5-8 Track and Field
DESCRIPTION:
URL:https://stjohnschoolermn.com/event/grades-5-8-track-and-field-2/
LOCATION:Minnesota
CATEGORIES:Field Trip
END:VEVENT
BEGIN:VEVENT
DTSTART;TZID=America/Chicago:20260505T000000
DTEND;TZID=America/Chicago:20260505T235959
DTSTAMP:20260420T022842
CREATED:20250807T140143Z
LAST-MODIFIED:20250807T140143Z
UID:3524-1777939200-1778025599@stjohnschoolermn.com
SUMMARY:Grades 7-8 Softball
DESCRIPTION:
URL:https://stjohnschoolermn.com/event/grades-7-8-softball-2/
LOCATION:Minnesota
CATEGORIES:General
END:VEVENT
BEGIN:VEVENT
DTSTART;TZID=America/Chicago:20260507T000000
DTEND;TZID=America/Chicago:20260507T235959
DTSTAMP:20260420T022842
CREATED:20250807T140143Z
LAST-MODIFIED:20250807T140143Z
UID:3525-1778112000-1778198399@stjohnschoolermn.com
SUMMARY:Grades 5-6 Softball
DESCRIPTION:
URL:https://stjohnschoolermn.com/event/grades-5-6-softball-2/
LOCATION:Minnesota
CATEGORIES:General
END:VEVENT
BEGIN:VEVENT
DTSTART;TZID=America/Chicago:20260508T000000
DTEND;TZID=America/Chicago:20260508T235959
DTSTAMP:20260420T022842
CREATED:20250807T140144Z
LAST-MODIFIED:20250807T140144Z
UID:3526-1778198400-1778284799@stjohnschoolermn.com
SUMMARY:Grades 3-4 Track and Field
DESCRIPTION:
URL:https://stjohnschoolermn.com/event/grades-3-4-track-and-field-2/
LOCATION:Minnesota
CATEGORIES:Field Trip
END:VEVENT
BEGIN:VEVENT
DTSTART;TZID=America/Chicago:20260515T000000
DTEND;TZID=America/Chicago:20260515T235959
DTSTAMP:20260420T022842
CREATED:20250807T140144Z
LAST-MODIFIED:20250807T140144Z
UID:3527-1778803200-1778889599@stjohnschoolermn.com
SUMMARY:Grades 1-2 Track and Field
DESCRIPTION:
URL:https://stjohnschoolermn.com/event/grades-1-2-track-and-field-2/
LOCATION:Minnesota
CATEGORIES:General
END:VEVENT
BEGIN:VEVENT
DTSTART;TZID=America/Chicago:20260517T103000
DTEND;TZID=America/Chicago:20260517T103000
DTSTAMP:20260420T022842
CREATED:20250807T140151Z
LAST-MODIFIED:20250807T140151Z
UID:3528-1779013800-1779013800@stjohnschoolermn.com
SUMMARY:Early Childhood -Grade 8 Sing in Church
DESCRIPTION:
URL:https://stjohnschoolermn.com/event/early-childhood-grade-8-sing-in-church/
LOCATION:Minnesota
CATEGORIES:General
END:VEVENT
BEGIN:VEVENT
DTSTART;TZID=America/Chicago:20260527T110000
DTEND;TZID=America/Chicago:20260527T110000
DTSTAMP:20260420T022842
CREATED:20250807T140151Z
LAST-MODIFIED:20250807T140151Z
UID:3529-1779879600-1779879600@stjohnschoolermn.com
SUMMARY:Closing Chapel
DESCRIPTION:
URL:https://stjohnschoolermn.com/event/closing-chapel-2/
LOCATION:Minnesota
CATEGORIES:General
END:VEVENT
BEGIN:VEVENT
DTSTART;TZID=America/Chicago:20260528T170000
DTEND;TZID=America/Chicago:20260528T190000
DTSTAMP:20260420T022842
CREATED:20250807T140151Z
LAST-MODIFIED:20250807T140151Z
UID:3530-1779987600-1779994800@stjohnschoolermn.com
SUMMARY:End of Year Celebration
DESCRIPTION:
URL:https://stjohnschoolermn.com/event/end-of-year-celebration/
LOCATION:Minnesota
CATEGORIES:General
END:VEVENT
BEGIN:VEVENT
DTSTART;TZID=America/Chicago:20260528T190000
DTEND;TZID=America/Chicago:20260528T210000
DTSTAMP:20260420T022842
CREATED:20250807T140151Z
LAST-MODIFIED:20250807T140151Z
UID:3531-1779994800-1780002000@stjohnschoolermn.com
SUMMARY:8th Grade Graduation
DESCRIPTION:
URL:https://stjohnschoolermn.com/event/8th-grade-graduation-2/
LOCATION:Minnesota
CATEGORIES:General
END:VEVENT
BEGIN:VEVENT
DTSTART;TZID=America/Chicago:20260529T110000
DTEND;TZID=America/Chicago:20260529T113000
DTSTAMP:20260420T022842
CREATED:20250807T140152Z
LAST-MODIFIED:20250807T140152Z
UID:3532-1780052400-1780054200@stjohnschoolermn.com
SUMMARY:Closing Celebration
DESCRIPTION:
URL:https://stjohnschoolermn.com/event/closing-celebration-2/
LOCATION:Minnesota
CATEGORIES:General
END:VEVENT
BEGIN:VEVENT
DTSTART;TZID=America/Chicago:20260529T113000
DTEND;TZID=America/Chicago:20260529T113000
DTSTAMP:20260420T022842
CREATED:20250807T140159Z
LAST-MODIFIED:20250807T140159Z
UID:3533-1780054200-1780054200@stjohnschoolermn.com
SUMMARY:Last Day of School
DESCRIPTION:
URL:https://stjohnschoolermn.com/event/last-day-of-school-2/
LOCATION:Minnesota
CATEGORIES:General
END:VEVENT
END:VCALENDAR