BEGIN:VCALENDAR
VERSION:2.0
PRODID:-//St John Lutheran School - Elk River - ECPv6.15.20//NONSGML v1.0//EN
CALSCALE:GREGORIAN
METHOD:PUBLISH
X-WR-CALNAME:St John Lutheran School - Elk River
X-ORIGINAL-URL:https://stjohnschoolermn.com
X-WR-CALDESC:Events for St John Lutheran School - Elk River
REFRESH-INTERVAL;VALUE=DURATION:PT1H
X-Robots-Tag:noindex
X-PUBLISHED-TTL:PT1H
BEGIN:VTIMEZONE
TZID:America/Chicago
BEGIN:DAYLIGHT
TZOFFSETFROM:-0600
TZOFFSETTO:-0500
TZNAME:CDT
DTSTART:20230312T080000
END:DAYLIGHT
BEGIN:STANDARD
TZOFFSETFROM:-0500
TZOFFSETTO:-0600
TZNAME:CST
DTSTART:20231105T070000
END:STANDARD
BEGIN:DAYLIGHT
TZOFFSETFROM:-0600
TZOFFSETTO:-0500
TZNAME:CDT
DTSTART:20240310T080000
END:DAYLIGHT
BEGIN:STANDARD
TZOFFSETFROM:-0500
TZOFFSETTO:-0600
TZNAME:CST
DTSTART:20241103T070000
END:STANDARD
BEGIN:DAYLIGHT
TZOFFSETFROM:-0600
TZOFFSETTO:-0500
TZNAME:CDT
DTSTART:20250309T080000
END:DAYLIGHT
BEGIN:STANDARD
TZOFFSETFROM:-0500
TZOFFSETTO:-0600
TZNAME:CST
DTSTART:20251102T070000
END:STANDARD
END:VTIMEZONE
BEGIN:VEVENT
DTSTART;VALUE=DATE:20240828
DTEND;VALUE=DATE:20240829
DTSTAMP:20260420T212007
CREATED:20240806T192644Z
LAST-MODIFIED:20240806T160417Z
UID:2540-1724803200-1724889599@stjohnschoolermn.com
SUMMARY:First Day of Kindergarten
DESCRIPTION:
URL:https://stjohnschoolermn.com/event/first-day-of-kindergarten/
CATEGORIES:General
END:VEVENT
BEGIN:VEVENT
DTSTART;VALUE=DATE:20240826
DTEND;VALUE=DATE:20240830
DTSTAMP:20260420T212007
CREATED:20240806T155929Z
LAST-MODIFIED:20240808T170501Z
UID:2592-1724630400-1724975999@stjohnschoolermn.com
SUMMARY:Parent Transport
DESCRIPTION:
URL:https://stjohnschoolermn.com/event/parent-transport/
CATEGORIES:Parent Transport
END:VEVENT
BEGIN:VEVENT
DTSTART;VALUE=DATE:20240826
DTEND;VALUE=DATE:20240827
DTSTAMP:20260420T212007
CREATED:20240806T192600Z
LAST-MODIFIED:20240806T160449Z
UID:2538-1724630400-1724716799@stjohnschoolermn.com
SUMMARY:First Day of School (Grades 1-8)
DESCRIPTION:
URL:https://stjohnschoolermn.com/event/first-day-of-school-1-8/
CATEGORIES:General
END:VEVENT
END:VCALENDAR