BEGIN:VCALENDAR
VERSION:2.0
PRODID:-//St John Lutheran School - Elk River - ECPv6.15.20//NONSGML v1.0//EN
CALSCALE:GREGORIAN
METHOD:PUBLISH
X-WR-CALNAME:St John Lutheran School - Elk River
X-ORIGINAL-URL:https://stjohnschoolermn.com
X-WR-CALDESC:Events for St John Lutheran School - Elk River
REFRESH-INTERVAL;VALUE=DURATION:PT1H
X-Robots-Tag:noindex
X-PUBLISHED-TTL:PT1H
BEGIN:VTIMEZONE
TZID:America/Chicago
BEGIN:DAYLIGHT
TZOFFSETFROM:-0600
TZOFFSETTO:-0500
TZNAME:CDT
DTSTART:20240310T080000
END:DAYLIGHT
BEGIN:STANDARD
TZOFFSETFROM:-0500
TZOFFSETTO:-0600
TZNAME:CST
DTSTART:20241103T070000
END:STANDARD
BEGIN:DAYLIGHT
TZOFFSETFROM:-0600
TZOFFSETTO:-0500
TZNAME:CDT
DTSTART:20250309T080000
END:DAYLIGHT
BEGIN:STANDARD
TZOFFSETFROM:-0500
TZOFFSETTO:-0600
TZNAME:CST
DTSTART:20251102T070000
END:STANDARD
BEGIN:DAYLIGHT
TZOFFSETFROM:-0600
TZOFFSETTO:-0500
TZNAME:CDT
DTSTART:20260308T080000
END:DAYLIGHT
BEGIN:STANDARD
TZOFFSETFROM:-0500
TZOFFSETTO:-0600
TZNAME:CST
DTSTART:20261101T070000
END:STANDARD
END:VTIMEZONE
BEGIN:VEVENT
DTSTART;TZID=America/Chicago:20250528T084000
DTEND;TZID=America/Chicago:20250528T091000
DTSTAMP:20260420T112243
CREATED:20240806T173436Z
LAST-MODIFIED:20240806T173436Z
UID:2693-1748421600-1748423400@stjohnschoolermn.com
SUMMARY:Chapel
DESCRIPTION:Parents/Families Welcome!
URL:https://stjohnschoolermn.com/event/chapel-35/
CATEGORIES:Chapel
END:VEVENT
BEGIN:VEVENT
DTSTART;VALUE=DATE:20250527
DTEND;VALUE=DATE:20250528
DTSTAMP:20260420T112243
CREATED:20240806T153424Z
LAST-MODIFIED:20240806T172747Z
UID:2583-1748304000-1748390399@stjohnschoolermn.com
SUMMARY:Grades EC-K Field Trip
DESCRIPTION:
URL:https://stjohnschoolermn.com/event/grades-ec-k-field-trip/
CATEGORIES:Field Trip
END:VEVENT
BEGIN:VEVENT
DTSTART;VALUE=DATE:20250526
DTEND;VALUE=DATE:20250527
DTSTAMP:20260420T112243
CREATED:20240806T155948Z
LAST-MODIFIED:20240806T172728Z
UID:2609-1748217600-1748303999@stjohnschoolermn.com
SUMMARY:Memorial Day - No School
DESCRIPTION:
URL:https://stjohnschoolermn.com/event/memorial-day/
CATEGORIES:No School
END:VEVENT
BEGIN:VEVENT
DTSTART;TZID=America/Chicago:20250521T084000
DTEND;TZID=America/Chicago:20250521T091000
DTSTAMP:20260420T112243
CREATED:20240806T173436Z
LAST-MODIFIED:20240806T173436Z
UID:2692-1747816800-1747818600@stjohnschoolermn.com
SUMMARY:Chapel
DESCRIPTION:Parents/Families Welcome!
URL:https://stjohnschoolermn.com/event/chapel-34/
CATEGORIES:Chapel
END:VEVENT
BEGIN:VEVENT
DTSTART;VALUE=DATE:20250516
DTEND;VALUE=DATE:20250517
DTSTAMP:20260420T112243
CREATED:20240806T153424Z
LAST-MODIFIED:20240806T172700Z
UID:2582-1747353600-1747439999@stjohnschoolermn.com
SUMMARY:Grades 1-2 Track and Field
DESCRIPTION:
URL:https://stjohnschoolermn.com/event/grades-1-2-track-and-field/
CATEGORIES:General
END:VEVENT
BEGIN:VEVENT
DTSTART;TZID=America/Chicago:20250514T084000
DTEND;TZID=America/Chicago:20250514T091000
DTSTAMP:20260420T112243
CREATED:20240806T173436Z
LAST-MODIFIED:20240806T173436Z
UID:2691-1747212000-1747213800@stjohnschoolermn.com
SUMMARY:Chapel
DESCRIPTION:Parents/Families Welcome!
URL:https://stjohnschoolermn.com/event/chapel-33/
CATEGORIES:Chapel
END:VEVENT
BEGIN:VEVENT
DTSTART;VALUE=DATE:20250509
DTEND;VALUE=DATE:20250510
DTSTAMP:20260420T112243
CREATED:20240806T153424Z
LAST-MODIFIED:20240806T172645Z
UID:2581-1746748800-1746835199@stjohnschoolermn.com
SUMMARY:Grades 3-4 Track and Field
DESCRIPTION:
URL:https://stjohnschoolermn.com/event/grades-3-4-track-and-field/
CATEGORIES:Field Trip
END:VEVENT
BEGIN:VEVENT
DTSTART;VALUE=DATE:20250508
DTEND;VALUE=DATE:20250509
DTSTAMP:20260420T112243
CREATED:20240806T153410Z
LAST-MODIFIED:20240806T172621Z
UID:2580-1746662400-1746748799@stjohnschoolermn.com
SUMMARY:Grades 5-6 Softball
DESCRIPTION:
URL:https://stjohnschoolermn.com/event/grades-5-6-softball/
CATEGORIES:General
END:VEVENT
BEGIN:VEVENT
DTSTART;TZID=America/Chicago:20250507T084000
DTEND;TZID=America/Chicago:20250507T091000
DTSTAMP:20260420T112243
CREATED:20240806T173435Z
LAST-MODIFIED:20240806T173435Z
UID:2690-1746607200-1746609000@stjohnschoolermn.com
SUMMARY:Chapel
DESCRIPTION:Parents/Families Welcome!
URL:https://stjohnschoolermn.com/event/chapel-32/
CATEGORIES:Chapel
END:VEVENT
BEGIN:VEVENT
DTSTART;VALUE=DATE:20250506
DTEND;VALUE=DATE:20250507
DTSTAMP:20260420T112243
CREATED:20240806T153410Z
LAST-MODIFIED:20240806T172609Z
UID:2579-1746489600-1746575999@stjohnschoolermn.com
SUMMARY:Grades 7-8 Softball
DESCRIPTION:
URL:https://stjohnschoolermn.com/event/grades-7-8-softball/
CATEGORIES:General
END:VEVENT
BEGIN:VEVENT
DTSTART;TZID=America/Chicago:20250504T080000
DTEND;TZID=America/Chicago:20250504T100000
DTSTAMP:20260420T112243
CREATED:20240806T153410Z
LAST-MODIFIED:20240806T172544Z
UID:2578-1746345600-1746352800@stjohnschoolermn.com
SUMMARY:Grades EC-K Sing in Worship
DESCRIPTION:
URL:https://stjohnschoolermn.com/event/grades-ec-k-sing-in-worship/
CATEGORIES:General
END:VEVENT
BEGIN:VEVENT
DTSTART;VALUE=DATE:20250502
DTEND;VALUE=DATE:20250503
DTSTAMP:20260420T112243
CREATED:20240806T153409Z
LAST-MODIFIED:20240806T172503Z
UID:2577-1746144000-1746230399@stjohnschoolermn.com
SUMMARY:Grades 5-8 Track and Field
DESCRIPTION:
URL:https://stjohnschoolermn.com/event/grades-5-8-track-and-field/
CATEGORIES:Field Trip
END:VEVENT
BEGIN:VEVENT
DTSTART;TZID=America/Chicago:20250430T084000
DTEND;TZID=America/Chicago:20250430T091000
DTSTAMP:20260420T112243
CREATED:20240806T173435Z
LAST-MODIFIED:20240806T173435Z
UID:2689-1746002400-1746004200@stjohnschoolermn.com
SUMMARY:Chapel
DESCRIPTION:Parents/Families Welcome!
URL:https://stjohnschoolermn.com/event/chapel-31/
CATEGORIES:Chapel
END:VEVENT
BEGIN:VEVENT
DTSTART;TZID=America/Chicago:20250429T080000
DTEND;TZID=America/Chicago:20250429T170000
DTSTAMP:20260420T112243
CREATED:20250402T211439Z
LAST-MODIFIED:20250402T211440Z
UID:3458-1745913600-1745946000@stjohnschoolermn.com
SUMMARY:Volleyball - 4/29/25 - Jamboree's 7th and 8th Grade
DESCRIPTION:Time TBT
URL:https://stjohnschoolermn.com/event/volleyball-4-29-25-jamborees-7th-and-8th-grade/
LOCATION:St. John Corcoran\, 9141 County Rd 101\, Corcoran\, Minnesota\, 55340\, United States
CATEGORIES:Sports
ORGANIZER;CN="Jen Voigt":MAILTO:jennifer.voigt@sjlcas.com
END:VEVENT
BEGIN:VEVENT
DTSTART;TZID=America/Chicago:20250429T080000
DTEND;TZID=America/Chicago:20250429T170000
DTSTAMP:20260420T112243
CREATED:20250402T211142Z
LAST-MODIFIED:20250402T211723Z
UID:3452-1745913600-1745946000@stjohnschoolermn.com
SUMMARY:Volleyball - 4/29/25 - Jamboree's 5th and 6th Grade
DESCRIPTION:Time TBT
URL:https://stjohnschoolermn.com/event/volleyball-4-29-25-jamborees-5th-and-6th-grade/
LOCATION:St. John Corcoran\, 9141 County Rd 101\, Corcoran\, Minnesota\, 55340\, United States
CATEGORIES:Sports
ATTACH;FMTTYPE=image/jpeg:https://stjohnschoolermn.com/wp-content/uploads/2025/02/Volleyball.jpg
ORGANIZER;CN="Jen Voigt":MAILTO:jennifer.voigt@sjlcas.com
END:VEVENT
BEGIN:VEVENT
DTSTART;TZID=America/Chicago:20250423T084000
DTEND;TZID=America/Chicago:20250423T091000
DTSTAMP:20260420T112243
CREATED:20240806T173421Z
LAST-MODIFIED:20240806T173421Z
UID:2688-1745397600-1745399400@stjohnschoolermn.com
SUMMARY:Chapel
DESCRIPTION:Parents/Families Welcome!
URL:https://stjohnschoolermn.com/event/chapel-30/
CATEGORIES:Chapel
END:VEVENT
BEGIN:VEVENT
DTSTART;VALUE=DATE:20250418
DTEND;VALUE=DATE:20250422
DTSTAMP:20260420T112243
CREATED:20240806T155947Z
LAST-MODIFIED:20240806T172447Z
UID:2608-1744934400-1745279999@stjohnschoolermn.com
SUMMARY:Easter Break - No School
DESCRIPTION:
URL:https://stjohnschoolermn.com/event/easter-break/
CATEGORIES:No School
END:VEVENT
BEGIN:VEVENT
DTSTART;VALUE=DATE:20250416
DTEND;VALUE=DATE:20250417
DTSTAMP:20260420T112243
CREATED:20240806T153409Z
LAST-MODIFIED:20250807T140439Z
UID:2576-1744761600-1744847999@stjohnschoolermn.com
SUMMARY:K-8 Conferences - No School*
DESCRIPTION:*Students’ attendance is expected at this activity – it is part of their grade.
URL:https://stjohnschoolermn.com/event/k-8-conferences-no-school-2/
CATEGORIES:Conferences,Expected Attendance
END:VEVENT
BEGIN:VEVENT
DTSTART;TZID=America/Chicago:20250415T160000
DTEND;TZID=America/Chicago:20250415T160000
DTSTAMP:20260420T112243
CREATED:20240806T153355Z
LAST-MODIFIED:20240806T153618Z
UID:2570-1744732800-1744732800@stjohnschoolermn.com
SUMMARY:K-8 Conferences after school*
DESCRIPTION:*Students’ attendance is expected at this activity – it is part of their grade.
URL:https://stjohnschoolermn.com/event/k-8-conferences-after-school/
CATEGORIES:Conferences,Expected Attendance,No School
END:VEVENT
BEGIN:VEVENT
DTSTART;TZID=America/Chicago:20250415T151000
DTEND;TZID=America/Chicago:20250415T203000
DTSTAMP:20260420T112243
CREATED:20250402T211356Z
LAST-MODIFIED:20250414T153216Z
UID:3456-1744729800-1744749000@stjohnschoolermn.com
SUMMARY:Volleyball - 4/15/25 - Jamboree's 7th and 8th Grade
DESCRIPTION:ARRIVE 20 MINS BEFORE SCHEDULED GAME\n\n\n\n\n\nApril 15 at CambridgeDownload
URL:https://stjohnschoolermn.com/event/volleyball-4-15-25-jamborees-7th-and-8th-grade/
LOCATION:Cambridge Christian School\, 2211 Old Main St S\, Cambridge\, Minnesota\, 55008\, United States
CATEGORIES:Sports
ATTACH;FMTTYPE=image/jpeg:https://stjohnschoolermn.com/wp-content/uploads/2025/02/Volleyball.jpg
ORGANIZER;CN="Jen Voigt":MAILTO:jennifer.voigt@sjlcas.com
END:VEVENT
BEGIN:VEVENT
DTSTART;TZID=America/Chicago:20250415T151000
DTEND;TZID=America/Chicago:20250415T203000
DTSTAMP:20260420T112243
CREATED:20250402T211006Z
LAST-MODIFIED:20250414T153416Z
UID:3447-1744729800-1744749000@stjohnschoolermn.com
SUMMARY:Volleyball - 4/15/25 - Jamboree's 5th and 6th Grade
DESCRIPTION:PLEASE ARRIVE 20 MINS BEFORE SCHEDULED GAME\n\n\n\n\n\nApril 15 at CambridgeDownload
URL:https://stjohnschoolermn.com/event/volleyball-4-15-25-jamborees-5th-and-6th-grade/
LOCATION:Cambridge Christian School\, 2211 Old Main St S\, Cambridge\, Minnesota\, 55008\, United States
CATEGORIES:Sports
ATTACH;FMTTYPE=image/jpeg:https://stjohnschoolermn.com/wp-content/uploads/2025/02/Volleyball.jpg
ORGANIZER;CN="Jen Voigt":MAILTO:jennifer.voigt@sjlcas.com
END:VEVENT
BEGIN:VEVENT
DTSTART;TZID=America/Chicago:20250414T080000
DTEND;TZID=America/Chicago:20250414T170000
DTSTAMP:20260420T112243
CREATED:20250414T153608Z
LAST-MODIFIED:20250414T153609Z
UID:3488-1744617600-1744650000@stjohnschoolermn.com
SUMMARY:Volleyball - 4/18/25 - No Practice
DESCRIPTION:
URL:https://stjohnschoolermn.com/event/volleyball-4-18-25-no-practice/
ATTACH;FMTTYPE=image/jpeg:https://stjohnschoolermn.com/wp-content/uploads/2025/02/Volleyball.jpg
END:VEVENT
BEGIN:VEVENT
DTSTART;TZID=America/Chicago:20250414T033000
DTEND;TZID=America/Chicago:20250414T164500
DTSTAMP:20260420T112243
CREATED:20250414T152915Z
LAST-MODIFIED:20250414T152917Z
UID:3476-1744601400-1744649100@stjohnschoolermn.com
SUMMARY:Volleyball - 4/14/25 - 7th and 8th Grade
DESCRIPTION:PICTURE DAY – PLEASE BRING YOUR UNIFORMS – Order form below\n\n\n\n\n\nVolleyball Photos Order FormDownload
URL:https://stjohnschoolermn.com/event/volleyball-4-14-25-7th-and-8th-grade/
CATEGORIES:Sports
ATTACH;FMTTYPE=image/jpeg:https://stjohnschoolermn.com/wp-content/uploads/2025/02/Volleyball.jpg
ORGANIZER;CN="Jen Voigt":MAILTO:jennifer.voigt@sjlcas.com
END:VEVENT
BEGIN:VEVENT
DTSTART;TZID=America/Chicago:20250411T190000
DTEND;TZID=America/Chicago:20250411T190000
DTSTAMP:20260420T112243
CREATED:20240806T153354Z
LAST-MODIFIED:20240806T153638Z
UID:2569-1744398000-1744398000@stjohnschoolermn.com
SUMMARY:Grades K-4 Musical Performance*
DESCRIPTION:*Students’ attendance is expected at this activity – it is part of their grade.
URL:https://stjohnschoolermn.com/event/grades-k-4-musical-performance/
CATEGORIES:Expected Attendance,General
END:VEVENT
BEGIN:VEVENT
DTSTART;TZID=America/Chicago:20250411T080000
DTEND;TZID=America/Chicago:20250411T170000
DTSTAMP:20260420T112243
CREATED:20250408T183009Z
LAST-MODIFIED:20250408T183010Z
UID:3470-1744358400-1744390800@stjohnschoolermn.com
SUMMARY:Volleyball - 4/11/25 - No Practice
DESCRIPTION:
URL:https://stjohnschoolermn.com/event/volleyball-4-11-25-no-practice/
CATEGORIES:Sports
ATTACH;FMTTYPE=image/jpeg:https://stjohnschoolermn.com/wp-content/uploads/2025/02/Volleyball.jpg
ORGANIZER;CN="Jen Voigt":MAILTO:jennifer.voigt@sjlcas.com
END:VEVENT
BEGIN:VEVENT
DTSTART;TZID=America/Chicago:20250410T100000
DTEND;TZID=America/Chicago:20250410T100000
DTSTAMP:20260420T112243
CREATED:20240806T153354Z
LAST-MODIFIED:20240806T153655Z
UID:2568-1744279200-1744279200@stjohnschoolermn.com
SUMMARY:Grades K-4 Musical Matinee*
DESCRIPTION:*Students’ attendance is expected at this activity – it is part of their grade.
URL:https://stjohnschoolermn.com/event/grades-k-4-musical-matinee/
CATEGORIES:Expected Attendance,General
END:VEVENT
BEGIN:VEVENT
DTSTART;TZID=America/Chicago:20250409T084000
DTEND;TZID=America/Chicago:20250409T091000
DTSTAMP:20260420T112243
CREATED:20240806T173420Z
LAST-MODIFIED:20240806T173420Z
UID:2687-1744188000-1744189800@stjohnschoolermn.com
SUMMARY:Chapel
DESCRIPTION:Parents/Families Welcome!
URL:https://stjohnschoolermn.com/event/chapel-29/
CATEGORIES:Chapel
END:VEVENT
BEGIN:VEVENT
DTSTART;TZID=America/Chicago:20250408T152000
DTEND;TZID=America/Chicago:20250408T203000
DTSTAMP:20260420T112243
CREATED:20250402T211300Z
LAST-MODIFIED:20250408T182445Z
UID:3454-1744125600-1744144200@stjohnschoolermn.com
SUMMARY:Volleyball - 4/8/25 - Jamboree's 7th and 8th Grade
DESCRIPTION:Arrive at 3:20 pm\n\n\n\n\n\n \n\n\n\n\n\n\n\n\n\n7th-8th jamboreeDownload
URL:https://stjohnschoolermn.com/event/volleyball-4-8-25-jamborees-7th-and-8th-grade/
LOCATION:St. John Corcoran\, 9141 County Rd 101\, Corcoran\, Minnesota\, 55340\, United States
CATEGORIES:Sports
ATTACH;FMTTYPE=image/jpeg:https://stjohnschoolermn.com/wp-content/uploads/2025/02/Volleyball.jpg
ORGANIZER;CN="Jen Voigt":MAILTO:jennifer.voigt@sjlcas.com
END:VEVENT
BEGIN:VEVENT
DTSTART;TZID=America/Chicago:20250404T151500
DTEND;TZID=America/Chicago:20250404T164500
DTSTAMP:20260420T112243
CREATED:20250227T181702Z
LAST-MODIFIED:20250402T205809Z
UID:3417-1743779700-1743785100@stjohnschoolermn.com
SUMMARY:Volleyball - 4/4/25 - 7th and 8th Grade
DESCRIPTION:Practice Information: \n\n\n\n\nKnee pads are optional but a good idea\n\n\n\nTie shoes are required\n\n\n\nHair tied back\n\n\n\nWater bottle\n\n\n\nShorts or leggings
URL:https://stjohnschoolermn.com/event/volleyball-3-11-25-7th-and-8th-grade/
CATEGORIES:Sports
ATTACH;FMTTYPE=image/jpeg:https://stjohnschoolermn.com/wp-content/uploads/2025/02/Volleyball.jpg
END:VEVENT
BEGIN:VEVENT
DTSTART;TZID=America/Chicago:20250404T151500
DTEND;TZID=America/Chicago:20250404T160000
DTSTAMP:20260420T112243
CREATED:20250402T210416Z
LAST-MODIFIED:20250402T211845Z
UID:3441-1743779700-1743782400@stjohnschoolermn.com
SUMMARY:Volleyball - 4/4/25 - 5th and 6th Grade
DESCRIPTION:
URL:https://stjohnschoolermn.com/event/volleyball-4-4-25-5th-and-6th-grade/
CATEGORIES:Sports
ATTACH;FMTTYPE=image/jpeg:https://stjohnschoolermn.com/wp-content/uploads/2025/02/Volleyball.jpg
ORGANIZER;CN="Jen Voigt":MAILTO:jennifer.voigt@sjlcas.com
END:VEVENT
END:VCALENDAR