BEGIN:VCALENDAR
VERSION:2.0
PRODID:-//St John Lutheran School - Elk River - ECPv6.15.20//NONSGML v1.0//EN
CALSCALE:GREGORIAN
METHOD:PUBLISH
X-WR-CALNAME:St John Lutheran School - Elk River
X-ORIGINAL-URL:https://stjohnschoolermn.com
X-WR-CALDESC:Events for St John Lutheran School - Elk River
REFRESH-INTERVAL;VALUE=DURATION:PT1H
X-Robots-Tag:noindex
X-PUBLISHED-TTL:PT1H
BEGIN:VTIMEZONE
TZID:America/Chicago
BEGIN:DAYLIGHT
TZOFFSETFROM:-0600
TZOFFSETTO:-0500
TZNAME:CDT
DTSTART:20240310T080000
END:DAYLIGHT
BEGIN:STANDARD
TZOFFSETFROM:-0500
TZOFFSETTO:-0600
TZNAME:CST
DTSTART:20241103T070000
END:STANDARD
BEGIN:DAYLIGHT
TZOFFSETFROM:-0600
TZOFFSETTO:-0500
TZNAME:CDT
DTSTART:20250309T080000
END:DAYLIGHT
BEGIN:STANDARD
TZOFFSETFROM:-0500
TZOFFSETTO:-0600
TZNAME:CST
DTSTART:20251102T070000
END:STANDARD
BEGIN:DAYLIGHT
TZOFFSETFROM:-0600
TZOFFSETTO:-0500
TZNAME:CDT
DTSTART:20260308T080000
END:DAYLIGHT
BEGIN:STANDARD
TZOFFSETFROM:-0500
TZOFFSETTO:-0600
TZNAME:CST
DTSTART:20261101T070000
END:STANDARD
END:VTIMEZONE
BEGIN:VEVENT
DTSTART;TZID=America/Chicago:20250331T151500
DTEND;TZID=America/Chicago:20250331T160000
DTSTAMP:20260420T172805
CREATED:20250402T205217Z
LAST-MODIFIED:20250402T205220Z
UID:3431-1743434100-1743436800@stjohnschoolermn.com
SUMMARY:Volleyball - 3/31/25 - 5th and 6th Grade
DESCRIPTION:Practice Information: \n\n\n\n\nShorts or leggings\n\n\n\nKnee pads are optional\, but a good idea\n\n\n\nTie shoes are required\n\n\n\nHair tied back\n\n\n\nWater bottle
URL:https://stjohnschoolermn.com/event/volleyball-3-31-25-5th-and-6th-grade-2/
CATEGORIES:Sports
ORGANIZER;CN="Jen Voigt":MAILTO:jennifer.voigt@sjlcas.com
END:VEVENT
BEGIN:VEVENT
DTSTART;TZID=America/Chicago:20250326T084000
DTEND;TZID=America/Chicago:20250326T091000
DTSTAMP:20260420T172805
CREATED:20240806T173420Z
LAST-MODIFIED:20240806T173420Z
UID:2685-1742978400-1742980200@stjohnschoolermn.com
SUMMARY:Chapel
DESCRIPTION:Parents/Families Welcome!
URL:https://stjohnschoolermn.com/event/chapel-27/
CATEGORIES:Chapel
END:VEVENT
BEGIN:VEVENT
DTSTART;VALUE=DATE:20250317
DTEND;VALUE=DATE:20250322
DTSTAMP:20260420T172805
CREATED:20240806T155934Z
LAST-MODIFIED:20240806T164034Z
UID:2606-1742169600-1742601599@stjohnschoolermn.com
SUMMARY:Spring Break - No School
DESCRIPTION:
URL:https://stjohnschoolermn.com/event/spring-break/
CATEGORIES:No School
END:VEVENT
BEGIN:VEVENT
DTSTART;TZID=America/Chicago:20250312T084000
DTEND;TZID=America/Chicago:20250312T091000
DTSTAMP:20260420T172805
CREATED:20240806T173420Z
LAST-MODIFIED:20240806T173420Z
UID:2684-1741768800-1741770600@stjohnschoolermn.com
SUMMARY:Chapel
DESCRIPTION:Parents/Families Welcome!
URL:https://stjohnschoolermn.com/event/chapel-26/
CATEGORIES:Chapel
END:VEVENT
BEGIN:VEVENT
DTSTART;TZID=America/Chicago:20250311T151500
DTEND;TZID=America/Chicago:20250311T160000
DTSTAMP:20260420T172805
CREATED:20250227T181357Z
LAST-MODIFIED:20250227T181418Z
UID:3414-1741706100-1741708800@stjohnschoolermn.com
SUMMARY:Volleyball - 3/11/25 - 5th and 6th Grade
DESCRIPTION:Practice Information: \n\n\n\n\nKnee pads are optional\, but a good idea\n\n\n\nTie shoes are required\n\n\n\nHair tied back\n\n\n\nWater bottle\n\n\n\nShorts or leggings
URL:https://stjohnschoolermn.com/event/volleyball-3-11-25-5th-and-6th-grade/
CATEGORIES:Sports
ATTACH;FMTTYPE=image/jpeg:https://stjohnschoolermn.com/wp-content/uploads/2025/02/Volleyball.jpg
ORGANIZER;CN="Jen Voigt":MAILTO:jennifer.voigt@sjlcas.com
END:VEVENT
BEGIN:VEVENT
DTSTART;TZID=America/Chicago:20250310T160000
DTEND;TZID=America/Chicago:20250310T164500
DTSTAMP:20260420T172805
CREATED:20250227T180645Z
LAST-MODIFIED:20250227T180914Z
UID:3404-1741622400-1741625100@stjohnschoolermn.com
SUMMARY:Volleyball - 3/10/25 - 7th and 8th Grade
DESCRIPTION:Practice Information: \n\n\n\n\nShorts or leggings\n\n\n\nKnee pads are optional\, but a good idea\n\n\n\nTie shoes are required\n\n\n\nHair tied back\n\n\n\nWater bottle
URL:https://stjohnschoolermn.com/event/volleyball-7-8th-grade/
CATEGORIES:Sports
ATTACH;FMTTYPE=image/jpeg:https://stjohnschoolermn.com/wp-content/uploads/2025/02/Volleyball.jpg
ORGANIZER;CN="Jen Voigt":MAILTO:jennifer.voigt@sjlcas.com
END:VEVENT
BEGIN:VEVENT
DTSTART;TZID=America/Chicago:20250310T151500
DTEND;TZID=America/Chicago:20250310T160000
DTSTAMP:20260420T172805
CREATED:20250227T180111Z
LAST-MODIFIED:20250227T180928Z
UID:3400-1741619700-1741622400@stjohnschoolermn.com
SUMMARY:Volleyball - 3/10/25 - 5th and 6th Grade
DESCRIPTION:Practice Information: \n\n\n\n\nKnee pads are optional\, but a good idea\n\n\n\nTie shoes are required\n\n\n\nHair tied back\n\n\n\nWater bottle\n\n\n\nShorts or leggings
URL:https://stjohnschoolermn.com/event/volleyball-5-6th-grade/
CATEGORIES:Sports
ATTACH;FMTTYPE=image/jpeg:https://stjohnschoolermn.com/wp-content/uploads/2025/02/Volleyball.jpg
ORGANIZER;CN="Jen Voigt":MAILTO:jennifer.voigt@sjlcas.com
END:VEVENT
BEGIN:VEVENT
DTSTART;TZID=America/Chicago:20250306T151500
DTEND;TZID=America/Chicago:20250306T164500
DTSTAMP:20260420T172805
CREATED:20250227T175702Z
LAST-MODIFIED:20250227T181039Z
UID:3398-1741274100-1741279500@stjohnschoolermn.com
SUMMARY:Volleyball - 3/6/25 - All Grades
DESCRIPTION:Everyone until 4:45 \n\n\n\nPractice Information: \n\n\n\n\nKnee pads are optional\, but a good idea\n\n\n\nTie shoes are required\n\n\n\nHair tied back\n\n\n\nWater bottle\n\n\n\nShorts or leggings
URL:https://stjohnschoolermn.com/event/volleyball-3-6-25-all-grades/
CATEGORIES:Sports
ATTACH;FMTTYPE=image/jpeg:https://stjohnschoolermn.com/wp-content/uploads/2025/02/Volleyball.jpg
ORGANIZER;CN="Jen Voigt":MAILTO:jennifer.voigt@sjlcas.com
END:VEVENT
BEGIN:VEVENT
DTSTART;TZID=America/Chicago:20250305T084000
DTEND;TZID=America/Chicago:20250305T091000
DTSTAMP:20260420T172805
CREATED:20240806T173409Z
LAST-MODIFIED:20240806T173409Z
UID:2683-1741164000-1741165800@stjohnschoolermn.com
SUMMARY:Chapel
DESCRIPTION:Parents/Families Welcome!
URL:https://stjohnschoolermn.com/event/chapel-25/
CATEGORIES:Chapel
END:VEVENT
BEGIN:VEVENT
DTSTART;TZID=America/Chicago:20250303T151500
DTEND;TZID=America/Chicago:20250303T164500
DTSTAMP:20260420T172805
CREATED:20250227T175449Z
LAST-MODIFIED:20250227T181051Z
UID:3395-1741014900-1741020300@stjohnschoolermn.com
SUMMARY:Volleyball - 3/3/25 - All Grades
DESCRIPTION:Everyone until 4:45p \n\n\n\nPractice Information: \n\n\n\n\nKnee pads are optional\, but a good idea\n\n\n\nTie shoes are required\n\n\n\nHair tied back\n\n\n\nWater bottle\n\n\n\nShorts or leggings
URL:https://stjohnschoolermn.com/event/volleyball-3-3-25-all-grades/
CATEGORIES:Sports
ATTACH;FMTTYPE=image/jpeg:https://stjohnschoolermn.com/wp-content/uploads/2025/02/Volleyball.jpg
ORGANIZER;CN="Jen Voigt":MAILTO:jennifer.voigt@sjlcas.com
END:VEVENT
BEGIN:VEVENT
DTSTART;TZID=America/Chicago:20250226T084000
DTEND;TZID=America/Chicago:20250226T091000
DTSTAMP:20260420T172805
CREATED:20240806T173409Z
LAST-MODIFIED:20240806T173409Z
UID:2682-1740559200-1740561000@stjohnschoolermn.com
SUMMARY:Chapel
DESCRIPTION:Parents/Families Welcome!
URL:https://stjohnschoolermn.com/event/chapel-24/
CATEGORIES:Chapel
END:VEVENT
BEGIN:VEVENT
DTSTART;TZID=America/Chicago:20250225T000000
DTEND;TZID=America/Chicago:20250225T235959
DTSTAMP:20260420T172805
CREATED:20250214T175234Z
LAST-MODIFIED:20250214T175234Z
UID:3324-1740441600-1740527999@stjohnschoolermn.com
SUMMARY:Taco Pizza
DESCRIPTION:Extra Milk
URL:https://stjohnschoolermn.com/event/taco-pizza/
CATEGORIES:Lunch
END:VEVENT
BEGIN:VEVENT
DTSTART;TZID=America/Chicago:20250224T000000
DTEND;TZID=America/Chicago:20250224T235959
DTSTAMP:20260420T172805
CREATED:20250214T175234Z
LAST-MODIFIED:20250214T175234Z
UID:3323-1740355200-1740441599@stjohnschoolermn.com
SUMMARY:Chicken Nuggets
DESCRIPTION:Extra Milk
URL:https://stjohnschoolermn.com/event/chicken-nuggets/
CATEGORIES:Lunch
END:VEVENT
BEGIN:VEVENT
DTSTART;TZID=America/Chicago:20250221T000000
DTEND;TZID=America/Chicago:20250221T235959
DTSTAMP:20260420T172805
CREATED:20250214T175234Z
LAST-MODIFIED:20250214T175234Z
UID:3322-1740096000-1740182399@stjohnschoolermn.com
SUMMARY:Cheese Pizza Rolls
DESCRIPTION:Extra Milk
URL:https://stjohnschoolermn.com/event/cheese-pizza-rolls/
CATEGORIES:Lunch
END:VEVENT
BEGIN:VEVENT
DTSTART;VALUE=DATE:20250221
DTEND;VALUE=DATE:20250222
DTSTAMP:20260420T172805
CREATED:20240806T155934Z
LAST-MODIFIED:20240806T164011Z
UID:2605-1740096000-1740182399@stjohnschoolermn.com
SUMMARY:End of Second Trimester
DESCRIPTION:
URL:https://stjohnschoolermn.com/event/end-of-second-trimester/
CATEGORIES:End of Trimester
END:VEVENT
BEGIN:VEVENT
DTSTART;TZID=America/Chicago:20250220T000000
DTEND;TZID=America/Chicago:20250220T235959
DTSTAMP:20260420T172805
CREATED:20250214T175233Z
LAST-MODIFIED:20250214T175233Z
UID:3321-1740009600-1740095999@stjohnschoolermn.com
SUMMARY:Baked Lasagna
DESCRIPTION:Extra Milk
URL:https://stjohnschoolermn.com/event/baked-lasagna/
CATEGORIES:Lunch
END:VEVENT
BEGIN:VEVENT
DTSTART;TZID=America/Chicago:20250219T084000
DTEND;TZID=America/Chicago:20250219T091000
DTSTAMP:20260420T172805
CREATED:20240806T173409Z
LAST-MODIFIED:20240806T173409Z
UID:2681-1739954400-1739956200@stjohnschoolermn.com
SUMMARY:Chapel
DESCRIPTION:Parents/Families Welcome!
URL:https://stjohnschoolermn.com/event/chapel-23/
CATEGORIES:Chapel
END:VEVENT
BEGIN:VEVENT
DTSTART;TZID=America/Chicago:20250219T000000
DTEND;TZID=America/Chicago:20250219T235959
DTSTAMP:20260420T172805
CREATED:20250214T175233Z
LAST-MODIFIED:20250214T175233Z
UID:3320-1739923200-1740009599@stjohnschoolermn.com
SUMMARY:Cheeseburger Slider
DESCRIPTION:Extra Milk
URL:https://stjohnschoolermn.com/event/cheeseburger-slider/
CATEGORIES:Lunch
END:VEVENT
BEGIN:VEVENT
DTSTART;VALUE=DATE:20250218
DTEND;VALUE=DATE:20250219
DTSTAMP:20260420T172805
CREATED:20240806T164851Z
LAST-MODIFIED:20240806T164851Z
UID:2636-1739836800-1739923199@stjohnschoolermn.com
SUMMARY:Professional Development Day - No School
DESCRIPTION:
URL:https://stjohnschoolermn.com/event/professional-development-day-no-school/
CATEGORIES:No School
END:VEVENT
BEGIN:VEVENT
DTSTART;VALUE=DATE:20250217
DTEND;VALUE=DATE:20250218
DTSTAMP:20260420T172805
CREATED:20240806T165226Z
LAST-MODIFIED:20240806T165226Z
UID:2638-1739750400-1739836799@stjohnschoolermn.com
SUMMARY:Presidents Day - No School
DESCRIPTION:
URL:https://stjohnschoolermn.com/event/presidents-day-no-school/
CATEGORIES:No School
END:VEVENT
BEGIN:VEVENT
DTSTART;TZID=America/Chicago:20250214T150000
DTEND;TZID=America/Chicago:20250214T160000
DTSTAMP:20260420T172805
CREATED:20250207T211107Z
LAST-MODIFIED:20250207T212513Z
UID:3242-1739545200-1739548800@stjohnschoolermn.com
SUMMARY:Basketball 2/14/25
DESCRIPTION:7th-8th girls practice until 4:00
URL:https://stjohnschoolermn.com/event/basketball-2-14-25/
CATEGORIES:Sports
ATTACH;FMTTYPE=image/jpeg:https://stjohnschoolermn.com/wp-content/uploads/2025/02/qtq80-VYvEhJ.jpeg
ORGANIZER;CN="Jen Voigt":MAILTO:jennifer.voigt@sjlcas.com
END:VEVENT
BEGIN:VEVENT
DTSTART;TZID=America/Chicago:20250214T080000
DTEND;TZID=America/Chicago:20250214T100000
DTSTAMP:20260420T172805
CREATED:20240806T153354Z
LAST-MODIFIED:20240806T163943Z
UID:2567-1739520000-1739527200@stjohnschoolermn.com
SUMMARY:Grades EC-2nd “Don’t Let the Pigeon Drive the Bus”
DESCRIPTION:
URL:https://stjohnschoolermn.com/event/grades-ec-2nd-dont-let-the-pigeon-drive-the-bus/
CATEGORIES:General
END:VEVENT
BEGIN:VEVENT
DTSTART;TZID=America/Chicago:20250214T000000
DTEND;TZID=America/Chicago:20250214T235959
DTSTAMP:20260420T172805
CREATED:20250214T175219Z
LAST-MODIFIED:20250214T175219Z
UID:3319-1739491200-1739577599@stjohnschoolermn.com
SUMMARY:Sausage Pizza
DESCRIPTION:Extra Milk
URL:https://stjohnschoolermn.com/event/sausage-pizza-2/
CATEGORIES:Lunch
END:VEVENT
BEGIN:VEVENT
DTSTART;TZID=America/Chicago:20250213T150000
DTEND;TZID=America/Chicago:20250213T170000
DTSTAMP:20260420T172805
CREATED:20250207T210847Z
LAST-MODIFIED:20250207T212617Z
UID:3237-1739458800-1739466000@stjohnschoolermn.com
SUMMARY:Basketball 2/13/25
DESCRIPTION:5th-6th girls practice until 4 \n\n\n\n4th-6th boys practice until 5 \n\n\n\n7th-8th – AWAY – St. John Chaska 300 E 4th St. Chaska\, MN \n\n\n\n                      4:00 pm
URL:https://stjohnschoolermn.com/event/basketball/
CATEGORIES:Sports
ATTACH;FMTTYPE=image/jpeg:https://stjohnschoolermn.com/wp-content/uploads/2025/02/qtq80-VYvEhJ.jpeg
ORGANIZER;CN="Jen Voigt":MAILTO:jennifer.voigt@sjlcas.com
END:VEVENT
BEGIN:VEVENT
DTSTART;TZID=America/Chicago:20250213T000000
DTEND;TZID=America/Chicago:20250213T235959
DTSTAMP:20260420T172805
CREATED:20250214T175219Z
LAST-MODIFIED:20250214T175628Z
UID:3318-1739404800-1739491199@stjohnschoolermn.com
SUMMARY:Asian Potsticker Bowl w/Rice
DESCRIPTION:Extra Milk
URL:https://stjohnschoolermn.com/event/asian-potsticker-bowl-w-rice-2/
CATEGORIES:Lunch
END:VEVENT
BEGIN:VEVENT
DTSTART;TZID=America/Chicago:20250212T084000
DTEND;TZID=America/Chicago:20250212T091000
DTSTAMP:20260420T172805
CREATED:20240806T173409Z
LAST-MODIFIED:20240806T173409Z
UID:2680-1739349600-1739351400@stjohnschoolermn.com
SUMMARY:Chapel
DESCRIPTION:Parents/Families Welcome!
URL:https://stjohnschoolermn.com/event/chapel-22/
CATEGORIES:Chapel
END:VEVENT
BEGIN:VEVENT
DTSTART;TZID=America/Chicago:20250212T000000
DTEND;TZID=America/Chicago:20250212T235959
DTSTAMP:20260420T172805
CREATED:20250214T175219Z
LAST-MODIFIED:20250214T175219Z
UID:3317-1739318400-1739404799@stjohnschoolermn.com
SUMMARY:Meatloaf Sliders
DESCRIPTION:Extra Milk
URL:https://stjohnschoolermn.com/event/meatloaf-sliders-2/
CATEGORIES:Lunch
END:VEVENT
BEGIN:VEVENT
DTSTART;TZID=America/Chicago:20250211T160000
DTEND;TZID=America/Chicago:20250211T200000
DTSTAMP:20260420T172805
CREATED:20240806T153354Z
LAST-MODIFIED:20240806T163916Z
UID:2566-1739289600-1739304000@stjohnschoolermn.com
SUMMARY:EC Conferences after school
DESCRIPTION:
URL:https://stjohnschoolermn.com/event/ec-conferences-after-school/
CATEGORIES:Conferences
END:VEVENT
BEGIN:VEVENT
DTSTART;TZID=America/Chicago:20250211T160000
DTEND;TZID=America/Chicago:20250211T170000
DTSTAMP:20260420T172805
CREATED:20250207T210443Z
LAST-MODIFIED:20250207T212842Z
UID:3232-1739289600-1739293200@stjohnschoolermn.com
SUMMARY:Basketball 2/11/25
DESCRIPTION:No Practice for All Teams – Upwards Evaluations \n\n\n\n7th-8th – AWAY – Cambridge School – 2211 Old Main St. S  Cambridge\, MN  \n\n\n\n                 4:00 pm – (Abigail can play\, wear GSL uniforms)
URL:https://stjohnschoolermn.com/event/basketball-no-practice-for-all-teams/
CATEGORIES:Sports
ATTACH;FMTTYPE=image/jpeg:https://stjohnschoolermn.com/wp-content/uploads/2025/02/qtq80-VYvEhJ.jpeg
ORGANIZER;CN="Jen Voigt":MAILTO:jennifer.voigt@sjlcas.com
END:VEVENT
BEGIN:VEVENT
DTSTART;TZID=America/Chicago:20250211T000000
DTEND;TZID=America/Chicago:20250211T235959
DTSTAMP:20260420T172805
CREATED:20250214T175218Z
LAST-MODIFIED:20250214T175218Z
UID:3316-1739232000-1739318399@stjohnschoolermn.com
SUMMARY:Taco Quesadilla
DESCRIPTION:Extra Milk
URL:https://stjohnschoolermn.com/event/taco-quesadilla-2/
CATEGORIES:Lunch
END:VEVENT
END:VCALENDAR