BEGIN:VCALENDAR
VERSION:2.0
PRODID:-//St John Lutheran School - Elk River - ECPv6.15.20//NONSGML v1.0//EN
CALSCALE:GREGORIAN
METHOD:PUBLISH
X-WR-CALNAME:St John Lutheran School - Elk River
X-ORIGINAL-URL:https://stjohnschoolermn.com
X-WR-CALDESC:Events for St John Lutheran School - Elk River
REFRESH-INTERVAL;VALUE=DURATION:PT1H
X-Robots-Tag:noindex
X-PUBLISHED-TTL:PT1H
BEGIN:VTIMEZONE
TZID:America/Chicago
BEGIN:DAYLIGHT
TZOFFSETFROM:-0600
TZOFFSETTO:-0500
TZNAME:CDT
DTSTART:20230312T080000
END:DAYLIGHT
BEGIN:STANDARD
TZOFFSETFROM:-0500
TZOFFSETTO:-0600
TZNAME:CST
DTSTART:20231105T070000
END:STANDARD
BEGIN:DAYLIGHT
TZOFFSETFROM:-0600
TZOFFSETTO:-0500
TZNAME:CDT
DTSTART:20240310T080000
END:DAYLIGHT
BEGIN:STANDARD
TZOFFSETFROM:-0500
TZOFFSETTO:-0600
TZNAME:CST
DTSTART:20241103T070000
END:STANDARD
BEGIN:DAYLIGHT
TZOFFSETFROM:-0600
TZOFFSETTO:-0500
TZNAME:CDT
DTSTART:20250309T080000
END:DAYLIGHT
BEGIN:STANDARD
TZOFFSETFROM:-0500
TZOFFSETTO:-0600
TZNAME:CST
DTSTART:20251102T070000
END:STANDARD
END:VTIMEZONE
BEGIN:VEVENT
DTSTART;VALUE=DATE:20240902
DTEND;VALUE=DATE:20240903
DTSTAMP:20260421T063251
CREATED:20240806T155929Z
LAST-MODIFIED:20240806T160601Z
UID:2594-1725235200-1725321599@stjohnschoolermn.com
SUMMARY:Labor Day - No School
DESCRIPTION:
URL:https://stjohnschoolermn.com/event/labor-day-no-school-2/
LOCATION:Minnesota
CATEGORIES:No School
END:VEVENT
BEGIN:VEVENT
DTSTART;VALUE=DATE:20240903
DTEND;VALUE=DATE:20240904
DTSTAMP:20260421T063251
CREATED:20240806T192919Z
LAST-MODIFIED:20240806T161030Z
UID:2542-1725321600-1725407999@stjohnschoolermn.com
SUMMARY:First Day of Early Childhood
DESCRIPTION:
URL:https://stjohnschoolermn.com/event/first-day-of-early-childhood/
LOCATION:Minnesota
CATEGORIES:General
END:VEVENT
BEGIN:VEVENT
DTSTART;TZID=America/Chicago:20240904T084000
DTEND;TZID=America/Chicago:20240904T091000
DTSTAMP:20260421T063251
CREATED:20240806T173306Z
LAST-MODIFIED:20240806T173306Z
UID:2660-1725439200-1725441000@stjohnschoolermn.com
SUMMARY:Chapel
DESCRIPTION:Parents/Families Welcome!
URL:https://stjohnschoolermn.com/event/chapel-2/
LOCATION:Minnesota
CATEGORIES:Chapel
END:VEVENT
BEGIN:VEVENT
DTSTART;TZID=America/Chicago:20240911T084000
DTEND;TZID=America/Chicago:20240911T091000
DTSTAMP:20260421T063251
CREATED:20240806T173307Z
LAST-MODIFIED:20240806T173307Z
UID:2661-1726044000-1726045800@stjohnschoolermn.com
SUMMARY:Chapel
DESCRIPTION:Parents/Families Welcome!
URL:https://stjohnschoolermn.com/event/chapel-3/
LOCATION:Minnesota
CATEGORIES:Chapel
END:VEVENT
BEGIN:VEVENT
DTSTART;TZID=America/Chicago:20240918T084000
DTEND;TZID=America/Chicago:20240918T091000
DTSTAMP:20260421T063251
CREATED:20240806T173307Z
LAST-MODIFIED:20240806T173307Z
UID:2662-1726648800-1726650600@stjohnschoolermn.com
SUMMARY:Chapel
DESCRIPTION:Parents/Families Welcome!
URL:https://stjohnschoolermn.com/event/chapel-4/
LOCATION:Minnesota
CATEGORIES:Chapel
END:VEVENT
BEGIN:VEVENT
DTSTART;VALUE=DATE:20240923
DTEND;VALUE=DATE:20240924
DTSTAMP:20260421T063251
CREATED:20240806T193036Z
LAST-MODIFIED:20240806T161057Z
UID:2544-1727049600-1727135999@stjohnschoolermn.com
SUMMARY:Picture Day
DESCRIPTION:
URL:https://stjohnschoolermn.com/event/picture-day/
LOCATION:Minnesota
CATEGORIES:Events
END:VEVENT
BEGIN:VEVENT
DTSTART;TZID=America/Chicago:20240925T084000
DTEND;TZID=America/Chicago:20240925T091000
DTSTAMP:20260421T063251
CREATED:20240806T173307Z
LAST-MODIFIED:20240806T173307Z
UID:2663-1727253600-1727255400@stjohnschoolermn.com
SUMMARY:Chapel
DESCRIPTION:Parents/Families Welcome!
URL:https://stjohnschoolermn.com/event/chapel-5/
LOCATION:Minnesota
CATEGORIES:Chapel
END:VEVENT
END:VCALENDAR